BEGIN:VCALENDAR
VERSION:2.0
PRODID:-//AA District 42 - ECPv6.15.20//NONSGML v1.0//EN
CALSCALE:GREGORIAN
METHOD:PUBLISH
X-WR-CALNAME:AA District 42
X-ORIGINAL-URL:https://aa-nia-dist42.com
X-WR-CALDESC:Events for AA District 42
REFRESH-INTERVAL;VALUE=DURATION:PT1H
X-Robots-Tag:noindex
X-PUBLISHED-TTL:PT1H
BEGIN:VTIMEZONE
TZID:America/Chicago
BEGIN:DAYLIGHT
TZOFFSETFROM:-0600
TZOFFSETTO:-0500
TZNAME:CDT
DTSTART:20250309T080000
END:DAYLIGHT
BEGIN:STANDARD
TZOFFSETFROM:-0500
TZOFFSETTO:-0600
TZNAME:CST
DTSTART:20251102T070000
END:STANDARD
BEGIN:DAYLIGHT
TZOFFSETFROM:-0600
TZOFFSETTO:-0500
TZNAME:CDT
DTSTART:20260308T080000
END:DAYLIGHT
BEGIN:STANDARD
TZOFFSETFROM:-0500
TZOFFSETTO:-0600
TZNAME:CST
DTSTART:20261101T070000
END:STANDARD
BEGIN:DAYLIGHT
TZOFFSETFROM:-0600
TZOFFSETTO:-0500
TZNAME:CDT
DTSTART:20270314T080000
END:DAYLIGHT
BEGIN:STANDARD
TZOFFSETFROM:-0500
TZOFFSETTO:-0600
TZNAME:CST
DTSTART:20271107T070000
END:STANDARD
END:VTIMEZONE
BEGIN:VEVENT
DTSTART;TZID=America/Chicago:20260421T190000
DTEND;TZID=America/Chicago:20260421T200000
DTSTAMP:20260421T020512
CREATED:20260228T152423Z
LAST-MODIFIED:20260228T152445Z
UID:1274-1776798000-1776801600@aa-nia-dist42.com
SUMMARY:District 42 Monthly Meeting
DESCRIPTION:
URL:https://aa-nia-dist42.com/events/district-42-monthly-meeting-5/
LOCATION:St Andrews Church\, 1125 Franklin St\, Downers Grove\, IL\, United States
END:VEVENT
END:VCALENDAR